BEGIN:VCALENDAR
VERSION:2.0
PRODID:-//Kenwood Symphony Orchestra - ECPv6.15.20//NONSGML v1.0//EN
CALSCALE:GREGORIAN
METHOD:PUBLISH
X-WR-CALNAME:Kenwood Symphony Orchestra
X-ORIGINAL-URL:https://kenwoodsymphonyorchestra.org
X-WR-CALDESC:Events for Kenwood Symphony Orchestra
REFRESH-INTERVAL;VALUE=DURATION:PT1H
X-Robots-Tag:noindex
X-PUBLISHED-TTL:PT1H
BEGIN:VTIMEZONE
TZID:America/Chicago
BEGIN:DAYLIGHT
TZOFFSETFROM:-0600
TZOFFSETTO:-0500
TZNAME:CDT
DTSTART:20240310T080000
END:DAYLIGHT
BEGIN:STANDARD
TZOFFSETFROM:-0500
TZOFFSETTO:-0600
TZNAME:CST
DTSTART:20241103T070000
END:STANDARD
BEGIN:DAYLIGHT
TZOFFSETFROM:-0600
TZOFFSETTO:-0500
TZNAME:CDT
DTSTART:20250309T080000
END:DAYLIGHT
BEGIN:STANDARD
TZOFFSETFROM:-0500
TZOFFSETTO:-0600
TZNAME:CST
DTSTART:20251102T070000
END:STANDARD
BEGIN:DAYLIGHT
TZOFFSETFROM:-0600
TZOFFSETTO:-0500
TZNAME:CDT
DTSTART:20260308T080000
END:DAYLIGHT
BEGIN:STANDARD
TZOFFSETFROM:-0500
TZOFFSETTO:-0600
TZNAME:CST
DTSTART:20261101T070000
END:STANDARD
BEGIN:DAYLIGHT
TZOFFSETFROM:-0600
TZOFFSETTO:-0500
TZNAME:CDT
DTSTART:20270314T080000
END:DAYLIGHT
BEGIN:STANDARD
TZOFFSETFROM:-0500
TZOFFSETTO:-0600
TZNAME:CST
DTSTART:20271107T070000
END:STANDARD
END:VTIMEZONE
BEGIN:VEVENT
DTSTART;TZID=America/Chicago:20251207T150000
DTEND;TZID=America/Chicago:20251207T150000
DTSTAMP:20260425T112255
CREATED:20250911T010529Z
LAST-MODIFIED:20250911T010529Z
UID:7920-1765119600-1765119600@kenwoodsymphonyorchestra.org
SUMMARY:Holiday Concert: Tchaikovsky's Nutcracker and Holiday Classics
DESCRIPTION:CONDUCTOR\nYuri Ivan\nArtistic Director \nREPERTOIRE\nTchaikovsky\nSelections from The Nutcracker \nOther Holiday Classics
URL:https://kenwoodsymphonyorchestra.org/event/holiday-concert-tchaikovskys-nutcracker-and-holiday-classics/
LOCATION:Masonic Temple Association\, 200 East Plato Boulevard\, Saint Paul\, MN\, 55107\, United States
CATEGORIES:2025/2026 Season
END:VEVENT
BEGIN:VEVENT
DTSTART;TZID=America/Chicago:20251220T190000
DTEND;TZID=America/Chicago:20251220T210000
DTSTAMP:20260425T112255
CREATED:20250911T012251Z
LAST-MODIFIED:20250911T012555Z
UID:7923-1766257200-1766264400@kenwoodsymphonyorchestra.org
SUMMARY:Tchaikovsky’s Nutcracker in partnership with the Metropolitan Ballet
DESCRIPTION:Purchase tickets at metroballetacademy.org \n \n \nDon’t miss Metropolitan Ballet’s 19th annual production of the traditional Nutcracker! \n\n\nSaturday December 20th at 7:00 pm
URL:https://kenwoodsymphonyorchestra.org/event/tchaikovskys-nutcracker-in-partnership-with-the-metropolitan-ballet-7/
LOCATION:Hopkins High School\, 2400 Royals Dr\, Minnetonka\, Minnesota\, 55305\, United States
CATEGORIES:2025/2026 Season
END:VEVENT
BEGIN:VEVENT
DTSTART;TZID=America/Chicago:20251221T140000
DTEND;TZID=America/Chicago:20251221T160000
DTSTAMP:20260425T112255
CREATED:20250911T012436Z
LAST-MODIFIED:20250911T012520Z
UID:7935-1766325600-1766332800@kenwoodsymphonyorchestra.org
SUMMARY:Tchaikovsky’s Nutcracker in partnership with the Metropolitan Ballet
DESCRIPTION:Purchase tickets at metroballetacademy.org \n \n \nDon’t miss Metropolitan Ballet’s 19th annual production of the traditional Nutcracker! \n\n\nSaturday December 20th at 7:00 pm
URL:https://kenwoodsymphonyorchestra.org/event/tchaikovskys-nutcracker-in-partnership-with-the-metropolitan-ballet-8/
LOCATION:Hopkins High School\, 2400 Royals Dr\, Minnetonka\, Minnesota\, 55305\, United States
CATEGORIES:2025/2026 Season
END:VEVENT
BEGIN:VEVENT
DTSTART;TZID=America/Chicago:20260301T150000
DTEND;TZID=America/Chicago:20260301T150000
DTSTAMP:20260425T112255
CREATED:20250911T015536Z
LAST-MODIFIED:20260223T221614Z
UID:7939-1772377200-1772377200@kenwoodsymphonyorchestra.org
SUMMARY:Mozart Piano Concerto MMTF Winner\, Elgar Enigma Variations\, Delius Summer Evening\, Rachmaninoff Piano Concerto No. 2 in C minor
DESCRIPTION:CONDUCTOR\nYuri Ivan\nArtistic Director \nREPERTOIRE\nElgar\nEnigma Variations \nDelius\nSummer Evening \nMozart\nPiano Concerto No. 20 in D Minor\, K. 466\, mvt 1  \nSoloist:Marius Kleinhuizen\, MMTF winner \n Rachmaninoff \nPiano Concerto No. 2 in C minor\, mvt 3 \nSoloist:  Jessica Schao
URL:https://kenwoodsymphonyorchestra.org/event/mozart-piano-concerto-elgar-enigma-variations-stephen-paulus-grand-concerto-for-organ-strauss-sunrise-from-zarathustra/
LOCATION:Roseville Lutheran Church\, 1215 Roselawn Ave W\, Roseville\, MN\, 55113\, United States
CATEGORIES:2025/2026 Season
END:VEVENT
BEGIN:VEVENT
DTSTART;TZID=America/Chicago:20260509T193000
DTEND;TZID=America/Chicago:20260509T193000
DTSTAMP:20260425T112255
CREATED:20250911T015608Z
LAST-MODIFIED:20250911T015633Z
UID:7942-1778355000-1778355000@kenwoodsymphonyorchestra.org
SUMMARY:Prokofiev: Romeo and Juliet\, Suites Nos. 1\, 2 & 3
DESCRIPTION:CONDUCTOR\nYuri Ivan\nArtistic Director \nREPERTOIRE\nProkofiev\nRomeo and Juliet\, Suites Nos. 1\, 2 & 3
URL:https://kenwoodsymphonyorchestra.org/event/prokofiev-romeo-and-juliet-suites-nos-1-2-3/
LOCATION:Concordia Buetow Music Auditorium\, 300 Hamline Ave N\, St Paul\, MN\, MN\, 55104\, United States
CATEGORIES:2025/2026 Season
END:VEVENT
END:VCALENDAR