BEGIN:VCALENDAR
VERSION:2.0
PRODID:-//Kenwood Symphony Orchestra - ECPv6.15.20//NONSGML v1.0//EN
CALSCALE:GREGORIAN
METHOD:PUBLISH
X-WR-CALNAME:Kenwood Symphony Orchestra
X-ORIGINAL-URL:https://kenwoodsymphonyorchestra.org
X-WR-CALDESC:Events for Kenwood Symphony Orchestra
REFRESH-INTERVAL;VALUE=DURATION:PT1H
X-Robots-Tag:noindex
X-PUBLISHED-TTL:PT1H
BEGIN:VTIMEZONE
TZID:America/Chicago
BEGIN:DAYLIGHT
TZOFFSETFROM:-0600
TZOFFSETTO:-0500
TZNAME:CDT
DTSTART:20210314T080000
END:DAYLIGHT
BEGIN:STANDARD
TZOFFSETFROM:-0500
TZOFFSETTO:-0600
TZNAME:CST
DTSTART:20211107T070000
END:STANDARD
BEGIN:DAYLIGHT
TZOFFSETFROM:-0600
TZOFFSETTO:-0500
TZNAME:CDT
DTSTART:20220313T080000
END:DAYLIGHT
BEGIN:STANDARD
TZOFFSETFROM:-0500
TZOFFSETTO:-0600
TZNAME:CST
DTSTART:20221106T070000
END:STANDARD
BEGIN:DAYLIGHT
TZOFFSETFROM:-0600
TZOFFSETTO:-0500
TZNAME:CDT
DTSTART:20230312T080000
END:DAYLIGHT
BEGIN:STANDARD
TZOFFSETFROM:-0500
TZOFFSETTO:-0600
TZNAME:CST
DTSTART:20231105T070000
END:STANDARD
END:VTIMEZONE
BEGIN:VEVENT
DTSTART;TZID=America/Chicago:20220403T150000
DTEND;TZID=America/Chicago:20220403T170000
DTSTAMP:20260424T172817
CREATED:20211002T181043Z
LAST-MODIFIED:20211002T181043Z
UID:6922-1648998000-1649005200@kenwoodsymphonyorchestra.org
SUMMARY:The Music of Gao Hong: A Celebration of 50 Years of Making Music With Friends
DESCRIPTION:Please review the Ordway venue’s COVID-19 policy for concerts: https://ordway.org/health-safety/.\n\n\n\nGao Hong is a fiscal year 2020 recipient of an Artist Initiative grant from the Minnesota State Arts Board. This activity is made possible by the voters of Minnesota through a grant from the Minnesota State Arts Board\, thanks to a legislative appropriation from the arts and cultural heritage fund.
URL:https://kenwoodsymphonyorchestra.org/event/gao-hong-concerto/
LOCATION:MN
CATEGORIES:2021/2022 Season
END:VEVENT
END:VCALENDAR